BEGIN:VCALENDAR
VERSION:2.0
PRODID:-//ChamberMaster//Event Calendar 2.0//EN
METHOD:PUBLISH
X-PUBLISHED-TTL:P3D
REFRESH-INTERVAL:P3D
CALSCALE:GREGORIAN
BEGIN:VEVENT
DTSTART:20130427T160000Z
DTEND:20130427T190000Z
X-MICROSOFT-CDO-ALLDAYEVENT:FALSE
SUMMARY:Old Tyme BBQ
DESCRIPTION:Gates open at 11:00 a.m.  Contestants do some serious cooking in preparation for the judges\, while the public can do some serious eating with heaping plates of Texas barbecue for $5.  Admission\, parking and kids activities are free.  All proceeds benefit Texas Special Olympics.  For general event information\, and Kid-Q contest details and entry forms\, visit Colleyville.com.
X-ALT-DESC;FMTTYPE=text/html:Gates open at 11:00 a.m.&nbsp\; Contestants do some serious cooking in preparation for the judges\, while the public can do some serious eating&nbsp\;with heaping plates of Texas barbecue for $5.&nbsp\; Admission\, parking and kids activities are free.&nbsp\; All proceeds benefit Texas Special Olympics.&nbsp\; For general event information\, and Kid-Q contest details and entry forms\, visit Colleyville.com.
LOCATION:
UID:e.642.5621
SEQUENCE:3
DTSTAMP:20260423T000828Z
URL:https://business.colleyvillechamber.org/events/details/old-tyme-bbq-04-27-2013-5621
END:VEVENT

END:VCALENDAR
