BEGIN:VCALENDAR
VERSION:2.0
PRODID:-//ChamberMaster//Event Calendar 2.0//EN
METHOD:PUBLISH
X-PUBLISHED-TTL:P3D
REFRESH-INTERVAL:P3D
CALSCALE:GREGORIAN
BEGIN:VEVENT
DTSTART:20120804T150000Z
DTEND:20120804T190000Z
X-MICROSOFT-CDO-ALLDAYEVENT:FALSE
SUMMARY:One Year Celebration
DESCRIPTION:Come celebrate our 1 year anniversary with us!\n\n	We are having vendors\, tours\, demonstrations\, food and beverages\, fun activites for the kids\, prize drawings\, and a pet costume contest!  There will be pets available for adoption\, and a special goody bag for everyone.  \n\n	America's Animal Clinic\n\n	82 Grapevine Highway\n\n	Hurst\, TX 76054\n\n	817-498-8888                                                                                 www.americasanimal.com
X-ALT-DESC;FMTTYPE=text/html:<h2 style="text-align: center\; color: blue">\n	Come celebrate our 1&nbsp\;year anniversary with us!</h2>\n<h3 style="color: red">\n	<span style="font-family: comic sans ms">We are having vendors\, tours\, demonstrations\, food and beverages\, fun activites for the kids\, prize drawings\, and a pet costume contest! &nbsp\;There will be pets available for adoption\, and a special goody bag for everyone. &nbsp\;</span></h3>\n<h3 style="text-align: center\; color: red">\n	<span style="font-family: comic sans ms">America&#39\;s Animal Clinic<br />\n	82 Grapevine Highway</span><br />\n	Hurst\, TX 76054</h3>\n<h3 style="color: blue">\n	817-498-8888 &nbsp\; &nbsp\; &nbsp\; &nbsp\; &nbsp\; &nbsp\; &nbsp\; &nbsp\; &nbsp\; &nbsp\; &nbsp\; &nbsp\; &nbsp\; &nbsp\; &nbsp\; &nbsp\; &nbsp\; &nbsp\; &nbsp\; &nbsp\; &nbsp\; &nbsp\; &nbsp\; &nbsp\; &nbsp\; &nbsp\; &nbsp\; &nbsp\; &nbsp\; &nbsp\; &nbsp\; &nbsp\; &nbsp\; &nbsp\; &nbsp\; &nbsp\; &nbsp\; &nbsp\; &nbsp\; &nbsp\; www.americasanimal.com</h3>\n
LOCATION:82 Grapevine Highway\, Hurst TX 76054
UID:e.642.5062
SEQUENCE:3
DTSTAMP:20260423T135041Z
URL:https://business.colleyvillechamber.org/events/details/one-year-celebration-08-04-2012-5062
END:VEVENT

END:VCALENDAR
