BEGIN:VCALENDAR
VERSION:2.0
PRODID:-//ChamberMaster//Event Calendar 2.0//EN
METHOD:PUBLISH
X-PUBLISHED-TTL:P3D
REFRESH-INTERVAL:P3D
CALSCALE:GREGORIAN
BEGIN:VEVENT
DTSTART:20150306T233000Z
DTEND:20150307T013000Z
X-MICROSOFT-CDO-ALLDAYEVENT:FALSE
SUMMARY:Open House - Corinthian Medical Spa
DESCRIPTION:Dual Open House with Riordan-McKenna Institute\n\n801 E. Southlake Blvd.\n\nSouthlake\, TX 76092
X-ALT-DESC;FMTTYPE=text/html:Dual Open House with Riordan-McKenna Institute<br />\n801 E. Southlake Blvd.<br />\nSouthlake\, TX 76092
LOCATION:
UID:e.642.7540
SEQUENCE:3
DTSTAMP:20260421T112754Z
URL:https://business.colleyvillechamber.org/events/details/open-house-corinthian-medical-spa-03-06-2015-7540
END:VEVENT

END:VCALENDAR
