BEGIN:VCALENDAR
VERSION:2.0
PRODID:-//ChamberMaster//Event Calendar 2.0//EN
METHOD:PUBLISH
X-PUBLISHED-TTL:P3D
REFRESH-INTERVAL:P3D
CALSCALE:GREGORIAN
BEGIN:VEVENT
DTSTART:20150117T160000Z
DTEND:20150117T180000Z
X-MICROSOFT-CDO-ALLDAYEVENT:FALSE
SUMMARY:Open House - LiLa Inch Loss Laser at Energy Health Centre
DESCRIPTION:Would you like to know how in only 4 weeks\n\nyou can reduce inches in those "hard to lose" spots?\n\n\nJoin us at this complimentary event to:\n\n\n	Get the skinny on the Strawberry LiLa Inch Loss Laser\, exclusively at Energy Health Centre\n	Be introduced to effective weight loss supplements\n	Find out how Energy Health Centre's detoxification and weight loss programs can supplement your inch loss\n	Have a complimentary consultation to find out if you are a good candidate for the Inch Loss Laser\n\nOpen house attendees will receive an additional discount on inch loss laser packages purchased at these events.\n\n \nContact Energy Health Centre to reserve your spot. Bring a friend!\n\n\n\nSaturday\, January 17th at 10:00 AM\n\nTuesday\, January 27th at 5:30 PM\n\n\n\nEmail info@energyhealth.com or call (817) 421-2922
X-ALT-DESC;FMTTYPE=text/html:<div style="background: rgb(238\, 238\, 238)\; padding: 5px 10px\; border: 1px solid rgb(204\, 204\, 204)\; text-align: center\;"><span style="color: rgb(0\, 0\, 128)\;"><span style="font-size: 18px\;"><strong>Would you like to know how in only&nbsp\;4 weeks<br />\nyou can reduce inches in those &quot\;hard to lose&quot\; spots?</strong></span></span></div>\n<br />\n<span style="font-size: 16px\;"><span style="font-family: tahoma\;"><strong><span style="color: rgb(0\, 0\, 0)\;">Join us at this complimentary event to:</span></strong></span></span>\n\n<ul>\n	<li><span style="font-size: 16px\;"><span style="font-family: tahoma\;"><strong><span style="color: rgb(0\, 0\, 0)\;">Get the skinny on the Strawberry LiLa Inch Loss Laser\, exclusively at Energy Health Centre</span></strong></span></span></li>\n	<li><span style="font-size: 16px\;"><span style="font-family: tahoma\;"><strong><span style="color: rgb(0\, 0\, 0)\;">Be introduced to effective weight loss supplements</span></strong></span></span></li>\n	<li><span style="font-size: 16px\;"><span style="font-family: tahoma\;"><strong><span style="color: rgb(0\, 0\, 0)\;">Find out how Energy Health Centre&rsquo\;s detoxification and weight loss programs can supplement your inch loss</span></strong></span></span></li>\n	<li><span style="font-size: 16px\;"><span style="font-family: tahoma\;"><strong><span style="color: rgb(0\, 0\, 0)\;">Have a complimentary consultation to find out if you are a good candidate for the Inch Loss Laser</span></strong></span></span></li>\n</ul>\n<span style="font-size: 14px\;"><span style="background-color: rgb(255\, 255\, 0)\;">Open house attendees will receive an additional discount on inch loss laser packages purchased at these events</span>.</span><br />\n&nbsp\;\n<div style="background: rgb(238\, 238\, 238)\; padding: 5px 10px\; border: 1px solid rgb(204\, 204\, 204)\; text-align: center\;"><span style="color: rgb(0\, 0\, 128)\;"><strong><span style="font-size: 14px\;"><span style="font-family: tahoma\;">Contact Energy Health Centre to reserve your spot. Bring a friend!<br />\n<br />\nSaturday\, January 17th at 10:00 AM<br />\nTuesday\, January 27th at 5:30 PM<br />\n<br />\nEmail info@energyhealth.com or call (817) 421-2922</span></span></strong></span></div>\n
LOCATION:Energy Health Centre 6221 Colleyville Blvd\, Suite 100 Colleyville\, TX 76034
UID:e.642.7488
SEQUENCE:3
DTSTAMP:20260421T152956Z
URL:https://business.colleyvillechamber.org/events/details/open-house-lila-inch-loss-laser-at-energy-health-centre-01-17-2015-7488
END:VEVENT

END:VCALENDAR
