BEGIN:VCALENDAR
VERSION:2.0
PRODID:-//ChamberMaster//Event Calendar 2.0//EN
METHOD:PUBLISH
X-PUBLISHED-TTL:P3D
REFRESH-INTERVAL:P3D
CALSCALE:GREGORIAN
BEGIN:VEVENT
DTSTART:20150127T233000Z
DTEND:20150128T013000Z
X-MICROSOFT-CDO-ALLDAYEVENT:FALSE
SUMMARY:Open House - LiLa Inch Loss Laser at Energy Health Centre
DESCRIPTION:Would you like to know how in only 4 weeks \n\nyou can reduce inches in those "hard to lose" spots?\n\nFind out January 27th at 5:30 PM\n\n\nJoin us at this complimentary event to:\n\n\n	Get the skinny on the Strawberry LiLa Inch Loss Laser\, exclusively at Energy Health Centre\n	Be introduced to effective weight loss supplements\n	Find out how Energy Health Centre's detoxification and weight loss programs can supplement your inch loss\n	Have a complimentary consultation to find out if you are a good candidate for the Inch Loss Laser\n\n \n\nOpen house attendees will receive an additional discount on inch loss laser packages purchased at these events.\n \n\nTuesday\, January 27th at 5:30 PM\n\n\n\nContact Energy Health Centre to\n\nreserve your spot. Bring a friend!\n\n\n\nEmail info@energyhealth.com\n\nor call (817) 421-2922\n\nEnergy Health Centre\n\n6221 Colleyville Blvd.\, Suite 100\n\nColleyville TX 76034\n\nwww.energyhealth.com
X-ALT-DESC;FMTTYPE=text/html:<div style="background: rgb(238\, 238\, 238)\; padding: 5px 10px\; border: 1px solid rgb(204\, 204\, 204)\; text-align: center\;"><span style="color: rgb(0\, 0\, 128)\;"><strong><span style="font-family: tahoma\;"><span style="font-size: 18px\;">Would you like to know how in only&nbsp\;4 weeks&nbsp\;<br />\nyou can reduce inches in those &quot\;hard to lose&quot\; spots?<br />\nFind out January 27th at 5:30 PM</span></span></strong></span></div>\n<br />\n<span style="color: rgb(0\, 0\, 0)\;"><span style="font-size: 16px\;">Join us at this <strong>complimentary </strong>event to:</span></span>\n\n<ul>\n	<li><span style="color: rgb(0\, 0\, 0)\;"><span style="font-size: 16px\;">Get the skinny on the Strawberry LiLa Inch Loss Laser\, exclusively at Energy Health Centre</span></span></li>\n	<li><span style="color: rgb(0\, 0\, 0)\;"><span style="font-size: 16px\;">Be introduced to effective weight loss supplements</span></span></li>\n	<li><span style="color: rgb(0\, 0\, 0)\;"><span style="font-size: 16px\;">Find out how Energy Health Centre&rsquo\;s detoxification and weight loss programs can supplement your inch loss</span></span></li>\n	<li><span style="color: rgb(0\, 0\, 0)\;"><span style="font-size: 16px\;">Have a complimentary consultation to find out if you are a good candidate for the Inch Loss Laser</span></span></li>\n</ul>\n&nbsp\;\n\n<div style="text-align: center\;"><span style="font-size: 16px\;"><span style="background-color: rgb(255\, 255\, 0)\;">Open house attendees will receive an additional discount on inch loss laser packages purchased at these events.</span></span></div>\n&nbsp\;\n\n<div style="background: rgb(238\, 238\, 238)\; padding: 5px 10px\; border: 1px solid rgb(204\, 204\, 204)\; text-align: center\;"><span style="font-size: 20px\;"><strong>Tuesday\, January 27th at 5:30 PM<br />\n<br />\nContact Energy Health Centre to<br />\nreserve your spot.&nbsp\;Bring a friend!<br />\n<br />\nEmail <span style="color: rgb(0\, 0\, 128)\;">info@energyhealth.com</span><br />\nor call (817) 421-2922<br />\nEnergy Health Centre<br />\n6221 Colleyville Blvd.\, Suite 100<br />\nColleyville TX 76034<br />\nwww.energyhealth.com</strong></span></div>\n
LOCATION:Energy Health Centre 6221 Colleyville Blvd.\, Suite 100 Colleyville TX 76034
UID:e.642.7490
SEQUENCE:3
DTSTAMP:20260421T141902Z
URL:https://business.colleyvillechamber.org/events/details/open-house-lila-inch-loss-laser-at-energy-health-centre-01-27-2015-7490
END:VEVENT

END:VCALENDAR
