BEGIN:VCALENDAR
VERSION:2.0
PRODID:-//ChamberMaster//Event Calendar 2.0//EN
METHOD:PUBLISH
X-PUBLISHED-TTL:P3D
REFRESH-INTERVAL:P3D
CALSCALE:GREGORIAN
BEGIN:VEVENT
DTSTART:20150306T233000Z
DTEND:20150307T013000Z
X-MICROSOFT-CDO-ALLDAYEVENT:FALSE
SUMMARY:Open House - Riordan-McKenna Institute
DESCRIPTION:Celebrate our brand new facility!\n\nDual Open House with Corinthian Medical Spa\n\n801 E. Southlake Blvd.\n\nSouthlake\, TX  76092
X-ALT-DESC;FMTTYPE=text/html:Celebrate our brand new facility!<br />\nDual Open House with Corinthian Medical Spa<br />\n801 E. Southlake Blvd.<br />\nSouthlake\, TX&nbsp\; 76092
LOCATION:
UID:e.642.7539
SEQUENCE:3
DTSTAMP:20260421T112756Z
URL:https://business.colleyvillechamber.org/events/details/open-house-riordan-mckenna-institute-03-06-2015-7539
END:VEVENT

END:VCALENDAR
