BEGIN:VCALENDAR
VERSION:2.0
PRODID:-//ChamberMaster//Event Calendar 2.0//EN
METHOD:PUBLISH
X-PUBLISHED-TTL:P3D
REFRESH-INTERVAL:P3D
CALSCALE:GREGORIAN
BEGIN:VEVENT
DTSTART:20141105T190000Z
DTEND:20141105T210000Z
X-MICROSOFT-CDO-ALLDAYEVENT:FALSE
SUMMARY:Our Medicare Supplement Insurance Plans
DESCRIPTION:Medicare doesn't cover everything.  Learn about your Medicare options from BlueCross and BlueShield of Texas\, a Division of Health Care Service Corporation\, a Mutual Legal Reserve Company\, including or Blue Medicare Supplement insurance plan.
X-ALT-DESC;FMTTYPE=text/html:Medicare doesn&#39\;t cover everything.&nbsp\; Learn about your Medicare options from BlueCross and BlueShield of Texas\,&nbsp\;a Division of Health Care Service Corporation\, a Mutual Legal Reserve Company\, including or Blue Medicare Supplement insurance plan.
LOCATION:6350 Winter Park Drive North Richland Hills\, TX 76180
UID:e.642.7025
SEQUENCE:3
DTSTAMP:20260421T172254Z
URL:https://business.colleyvillechamber.org/events/details/our-medicare-supplement-insurance-plans-11-05-2014-7025
END:VEVENT

END:VCALENDAR
