BEGIN:VCALENDAR
VERSION:2.0
PRODID:-//ChamberMaster//Event Calendar 2.0//EN
METHOD:PUBLISH
X-PUBLISHED-TTL:P3D
REFRESH-INTERVAL:P3D
CALSCALE:GREGORIAN
BEGIN:VEVENT
DTSTART:20241114T230000Z
DTEND:20241115T010000Z
X-MICROSOFT-CDO-ALLDAYEVENT:FALSE
SUMMARY:Packing backpacks for those in need
DESCRIPTION:Packing party for Backpacks for the Homeless. Last year\, we provided over 2\,000 backpacks with blankets\, warm hats\, scarves\, gloves\, warm socks\, toiletry items\, snacks\, and more to the MHMR Homeless clinic off Lancaster in Fort Worth and donated to individuals that were homeless or near homelessness. The MHMR clinic serves a population in very high need for these items that were included in the backpacks.\n\n \n\nOur community\, the Colleyville Chamber of Commerce\, the Colleyville Connection\, friends\, family members\, and clients have been working together to make this happen. This is our 8th year in a row providing filled backpacks to be donated and distributed by MHMR.
X-ALT-DESC;FMTTYPE=text/html:<div style="box-sizing: border-box\; outline: none\; color: rgb(0\, 0\, 0)\; font-family: &quot\;Open Sans&quot\;\, sans-serif\; font-size: 16px\; letter-spacing: 1px\;"><span class="uiOutputText" dir="ltr" style="box-sizing: border-box\; outline: none\; margin-bottom: 0px\;">Packing party for Backpacks for the Homeless. Last year\, we provided over 2\,000 backpacks with blankets\, warm hats\, scarves\, gloves\, warm socks\, toiletry items\, snacks\, and more to the MHMR Homeless clinic off Lancaster in Fort Worth and donated to individuals that were homeless or near homelessness. The MHMR clinic serves a population in very high need for these items that were included in the backpacks.</span></div>\n\n<div style="box-sizing: border-box\; outline: none\; color: rgb(0\, 0\, 0)\; font-family: &quot\;Open Sans&quot\;\, sans-serif\; font-size: 16px\; letter-spacing: 1px\;"><span class="uiOutputText" dir="ltr" style="box-sizing: border-box\; outline: none\; margin-bottom: 0px\;">&nbsp\;</span></div>\n\n<div style="box-sizing: border-box\; outline: none\; color: rgb(0\, 0\, 0)\; font-family: &quot\;Open Sans&quot\;\, sans-serif\; font-size: 16px\; letter-spacing: 1px\;"><span class="uiOutputText" dir="ltr" style="box-sizing: border-box\; outline: none\; margin-bottom: 0px\;">Our community\, the Colleyville Chamber of Commerce\, the Colleyville Connection\, friends\, family members\, and clients have been working together to make this happen. This is our 8th year in a row providing filled backpacks to be donated and distributed by MHMR.</span></div>\n
LOCATION:Sophie Tel Diaz Real Estate 28 Village Lane\, #100 Colleyville\, TX 76034
UID:e.642.31034
SEQUENCE:3
DTSTAMP:20260423T003025Z
URL:https://business.colleyvillechamber.org/events/details/packing-backpacks-for-those-in-need-31034
END:VEVENT

END:VCALENDAR
