BEGIN:VCALENDAR
VERSION:2.0
PRODID:-//ChamberMaster//Event Calendar 2.0//EN
METHOD:PUBLISH
X-PUBLISHED-TTL:P3D
REFRESH-INTERVAL:P3D
CALSCALE:GREGORIAN
BEGIN:VEVENT
DTSTART:20121020T170000Z
DTEND:20121020T210000Z
X-MICROSOFT-CDO-ALLDAYEVENT:FALSE
SUMMARY:Paint The Mall Pink Fashion Show & Expo
DESCRIPTION:Saturday\, October 20\n\nEXPO - 12:00 pm - 4:00 pm\, Center Court\n\nFASHION SHOW - 1:00 pm\, Center Court\n\n\n\nIn support of breast cancer awareness month\, North East Mall will host a special Expo for the local community. Visit with health professionals and exhibitors to learn more about living a healthy lifestyle. An assortment of vendors will be hand to visit with shoppers\, distribute materials\, conduct health screenings and pass out giveaways. \n\n\n	\n\n	Plus\, see the latest fall trends on the runway with a special Fashion Show starting at 1:00 pm. Fashions will be featured from all of your favorite North East Mall retailers including Express\, Gap\, Baker's\, Forever 21\, The Limited and more! There will even be an exclusive "pink" feature during the show with breast cancer survivors modeling the fashions!\n\n	\n\n	Swag bags will be distributed to the first 200 guests attending the Fashion Show filled with items from participating stores including free samples\, discount coupons and catalogs.
X-ALT-DESC;FMTTYPE=text/html:<span itemprop="description">Saturday\, October 20<br />\nEXPO - 12:00 pm - 4:00 pm\, Center Court<br />\nFASHION SHOW - 1:00 pm\, Center Court<br />\n<br />\nIn support of breast cancer awareness month\, North East Mall will host a special Expo for the local community. Visit with health professionals and exhibitors to learn more about living a healthy lifestyle. An assortment of vendors will be hand to visit with shoppers\, distribute materials\, conduct health screenings and pass out giveaways. </span><br />\n<div class="text_exposed_show">\n	<br />\n	<span itemprop="description">Plus\, see the latest fall trends on the runway with a special Fashion Show starting at 1:00 pm. Fashions will be featured from all of your favorite North East Mall retailers including Express\, Gap\, Baker&#39\;s\, Forever 21\, The Limited and more! There will even be an exclusive &quot\;pink&quot\; feature during the show with breast cancer survivors modeling the fashions!<br />\n	<br />\n	Swag bags will be distributed to the first 200 guests attending the Fashion Show filled with items from participating stores including free samples\, discount coupons and catalogs. </span></div>\n
LOCATION:North East Mall Center Court
UID:e.642.5110
SEQUENCE:3
DTSTAMP:20260423T110335Z
URL:https://business.colleyvillechamber.org/events/details/paint-the-mall-pink-fashion-show-expo-10-20-2012-5110
END:VEVENT

END:VCALENDAR
