BEGIN:VCALENDAR
VERSION:2.0
PRODID:-//ChamberMaster//Event Calendar 2.0//EN
METHOD:PUBLISH
X-PUBLISHED-TTL:P3D
REFRESH-INTERVAL:P3D
CALSCALE:GREGORIAN
BEGIN:VEVENT
DTSTART:20140215T180000Z
DTEND:20140215T210000Z
X-MICROSOFT-CDO-ALLDAYEVENT:FALSE
SUMMARY:Paint the Mall Red at North East Mall
DESCRIPTION:February is Heart Health Month!\n\nJoin us on February 15th and enjoy an EXPO featuring health exhibitors\, free swag bags\, food & wine samples\, and more!\n\n\n\nSee a celebrity Red dress on display\, plus enter to win our What's Not to Love sweepstakes\, where you could win a designer dress worn in The Heart Truth's Red Dress Fashion Show in NYC.\n\n\n\nA silent auction will also be held\, featuring retailer Giftcards\, gift baskets\, and other items benefiting the National Heart\, Lung\, Blood Institute.
X-ALT-DESC;FMTTYPE=text/html:February is Heart Health Month!<br />\nJoin us on February 15th and enjoy an EXPO featuring health exhibitors\, free swag bags\, food &amp\; wine samples\, and more!<br />\n<br />\nSee a celebrity Red dress on display\, plus enter to win our What&#39\;s Not to Love sweepstakes\, where you could win a designer dress worn in The Heart Truth&#39\;s Red Dress Fashion Show in NYC.<br />\n<br />\nA silent auction will also be held\, featuring retailer Giftcards\, gift baskets\, and other items benefiting the National Heart\, Lung\, Blood Institute.<br />\n
LOCATION:North East Mall\, Center Court
UID:e.642.6618
SEQUENCE:3
DTSTAMP:20260422T085002Z
URL:https://business.colleyvillechamber.org/events/details/paint-the-mall-red-at-north-east-mall-02-15-2014-6618
END:VEVENT

END:VCALENDAR
