BEGIN:VCALENDAR
VERSION:2.0
PRODID:-//ChamberMaster//Event Calendar 2.0//EN
METHOD:PUBLISH
X-PUBLISHED-TTL:P3D
REFRESH-INTERVAL:P3D
CALSCALE:GREGORIAN
BEGIN:VEVENT
DTSTART:20140626T233000Z
DTEND:20140627T023000Z
X-MICROSOFT-CDO-ALLDAYEVENT:FALSE
SUMMARY:Paint with Purpose
DESCRIPTION:Please join North Texas SNAP at Art in the Vine for a fun evening as we paint with purpose. North Texas SNAP provides programs and services for individuals 17 and older living with intellectual disabilities.\n\n\n\nArt in the Vine is graciously hosting this wonderful evening and donating 50% of the class fee ($40 per person) back to North Texas SNAP. The classes maximum seating capacity is 45 so make sure you get your tickets early at http://artinthevine.com/class-schedule/fundraiser-for-n-tx-snap-special-needs-assistance-partners/
X-ALT-DESC;FMTTYPE=text/html:Please join North Texas SNAP at Art in the Vine for a fun evening as we paint with purpose. North Texas SNAP provides programs and services for individuals 17 and older living with intellectual disabilities.<br />\n<br />\nArt in the Vine is graciously hosting this wonderful evening and donating 50% of the class fee ($40 per person) back to North Texas SNAP. The classes maximum seating capacity is 45 so make sure you get your tickets early at http://artinthevine.com/class-schedule/fundraiser-for-n-tx-snap-special-needs-assistance-partners/
LOCATION:441 E Northwest Hwy. Grapevine\, TX 76051
UID:e.642.6869
SEQUENCE:3
DTSTAMP:20260422T013430Z
URL:https://business.colleyvillechamber.org/events/details/paint-with-purpose-06-26-2014-6869
END:VEVENT

END:VCALENDAR
