BEGIN:VCALENDAR
VERSION:2.0
PRODID:-//ChamberMaster//Event Calendar 2.0//EN
METHOD:PUBLISH
X-PUBLISHED-TTL:P3D
REFRESH-INTERVAL:P3D
CALSCALE:GREGORIAN
BEGIN:VEVENT
DTSTART;VALUE=DATE:20120913
DTEND;VALUE=DATE:20120917
TRANSP:TRANSPARENT
X-MICROSOFT-CDO-ALLDAYEVENT:TRUE
SUMMARY:Pandora September Bracelet Event
DESCRIPTION:Don't miss the Pandora September Bracelet Event at the North East Mall!  Spend $100 and receive a FREE Pandora clasp bracelet.  Promotion Dates: Thursday\, September 13 - Sunday\, September 16\, 2012.
X-ALT-DESC;FMTTYPE=text/html:Don&#39\;t miss&nbsp\;the <strong>Pandora September Bracelet Event</strong> at the North East Mall!&nbsp\; Spend $100 and receive a FREE Pandora clasp bracelet.&nbsp\; Promotion Dates: Thursday\, September 13 - Sunday\, September 16\, 2012. 
LOCATION:Pandora Jewelry - North East Mall
UID:e.642.5083
SEQUENCE:3
DTSTAMP:20260423T140403Z
URL:https://business.colleyvillechamber.org/events/details/pandora-september-bracelet-event-09-13-2012-5083
END:VEVENT

END:VCALENDAR
