BEGIN:VCALENDAR
VERSION:2.0
PRODID:-//ChamberMaster//Event Calendar 2.0//EN
METHOD:PUBLISH
X-PUBLISHED-TTL:P3D
REFRESH-INTERVAL:P3D
CALSCALE:GREGORIAN
BEGIN:VEVENT
DTSTART:20140626T220000Z
DTEND:20140627T000000Z
X-MICROSOFT-CDO-ALLDAYEVENT:FALSE
SUMMARY:Party at the Parlour
DESCRIPTION:Shannon Rufe Snow Funeral Chapel\n\n6001 Rufe Snow Drive\n\nFort Worth\, Texas 76148\n\nWe will be serving heavy hors' devours as well as beer and wine.
X-ALT-DESC;FMTTYPE=text/html:<span style="font-size: medium\;"><span style="font-family: calibri\;">Shannon Rufe Snow Funeral Chapel</span></span><br />\n<span style="font-size: medium\;"><span style="font-family: calibri\;">6001 Rufe Snow Drive</span></span><br />\n<span style="font-size: medium\;"><span style="font-family: calibri\;">Fort Worth\, Texas 76148<br />\nWe will be serving heavy hors&rsquo\; devours as well as beer and wine.</span></span><br />\n<br />\n&nbsp\;
LOCATION:
UID:e.642.6895
SEQUENCE:3
DTSTAMP:20260422T014455Z
URL:https://business.colleyvillechamber.org/events/details/party-at-the-parlour-06-26-2014-6895
END:VEVENT

END:VCALENDAR
