BEGIN:VCALENDAR
VERSION:2.0
PRODID:-//ChamberMaster//Event Calendar 2.0//EN
METHOD:PUBLISH
X-PUBLISHED-TTL:P3D
REFRESH-INTERVAL:P3D
CALSCALE:GREGORIAN
BEGIN:VEVENT
DTSTART:20140927T150000Z
DTEND:20140927T180000Z
X-MICROSOFT-CDO-ALLDAYEVENT:FALSE
SUMMARY:Paws On The Avenue
DESCRIPTION:Bring Your Pet and Join Us for a Fun Saturday!\n\nBark Avenue Market in Colleyville Town Center
X-ALT-DESC;FMTTYPE=text/html:Bring Your Pet and Join Us for a Fun Saturday!<br />\nBark Avenue Market in Colleyville Town Center<br />\n&nbsp\;
LOCATION:Bark Avenue Market 5615 Colleyville Blvd.\, Ste. 230 Colleyville\, TX 76034
UID:e.642.6951
SEQUENCE:3
DTSTAMP:20260421T205215Z
URL:https://business.colleyvillechamber.org/events/details/paws-on-the-avenue-09-27-2014-6951
END:VEVENT

END:VCALENDAR
