BEGIN:VCALENDAR
VERSION:2.0
PRODID:-//ChamberMaster//Event Calendar 2.0//EN
METHOD:PUBLISH
X-PUBLISHED-TTL:P3D
REFRESH-INTERVAL:P3D
CALSCALE:GREGORIAN
BEGIN:VEVENT
DTSTART:20240928T150000Z
DTEND:20240928T170000Z
X-MICROSOFT-CDO-ALLDAYEVENT:FALSE
SUMMARY:PH4U Ladies Tea
DESCRIPTION:The Ladies' Tea is scheduled for Saturday\, September 28th. It will be held at Heritage Church of Christ in Fort Worth. Our guest speaker this year is Barbara Gradke\, Women's Minister at The Hills Church. We are praying for a sold-out event!\n\n\n\nIf you have any questions feel free to call us at 817-753-6222 or email Carol Price at carol@ph4u.org.
X-ALT-DESC;FMTTYPE=text/html:The Ladies&rsquo\; Tea is scheduled for Saturday\, September 28th. It will be held at Heritage Church of Christ in Fort Worth. Our guest speaker this year is Barbara Gradke\, Women&rsquo\;s Minister at The Hills Church. We are praying for a sold-out event!<br />\n<br />\nIf you have any questions feel free to call us at 817-753-6222 or email Carol Price at carol@ph4u.org.
LOCATION:Heritage Church of Christ 4201 HERITAGE TRACE PKWY\, FORT WORTH\, TX\, 76244
UID:e.642.30596
SEQUENCE:3
DTSTAMP:20260422T144609Z
URL:https://business.colleyvillechamber.org/events/details/ph4u-ladies-tea-30596
END:VEVENT

END:VCALENDAR
