BEGIN:VCALENDAR
VERSION:2.0
PRODID:-//ChamberMaster//Event Calendar 2.0//EN
METHOD:PUBLISH
X-PUBLISHED-TTL:P3D
REFRESH-INTERVAL:P3D
CALSCALE:GREGORIAN
BEGIN:VEVENT
DTSTART:20131117T200000Z
DTEND:20131117T223000Z
X-MICROSOFT-CDO-ALLDAYEVENT:FALSE
SUMMARY:Piazza in the Village 50th Wedding Anniversary Celebration
DESCRIPTION:Join us if you have been married 50+ years so we can celebrate your success!\n\n\n\nRSVP by November 12\, 2013
X-ALT-DESC;FMTTYPE=text/html:Join us if you have been married 50+ years so we can celebrate your success!<br />\n<br />\nRSVP by November 12\, 2013
LOCATION:Piazza in the Village 77 Piazza Lane Colleyville\, TX 76034
UID:e.642.5979
SEQUENCE:3
DTSTAMP:20260422T130751Z
URL:https://business.colleyvillechamber.org/events/details/piazza-in-the-village-50th-wedding-anniversary-celebration-11-17-2013-5979
END:VEVENT

END:VCALENDAR
