BEGIN:VCALENDAR
VERSION:2.0
PRODID:-//ChamberMaster//Event Calendar 2.0//EN
METHOD:PUBLISH
X-PUBLISHED-TTL:P3D
REFRESH-INTERVAL:P3D
CALSCALE:GREGORIAN
BEGIN:VEVENT
DTSTART;VALUE=DATE:20241110
DTEND;VALUE=DATE:20241111
TRANSP:TRANSPARENT
X-MICROSOFT-CDO-ALLDAYEVENT:TRUE
SUMMARY:Pickle Ball Tournament
DESCRIPTION:Pickle Ball Tournament @ chicken & pickle in Grapevine
X-ALT-DESC;FMTTYPE=text/html:Pickle Ball Tournament @ chicken &amp\; pickle in Grapevine
LOCATION:Chicken n Pickle 4600 Merlot Ave\, Grapevine Tx 76051
UID:e.642.31024
SEQUENCE:3
DTSTAMP:20260423T035726Z
URL:https://business.colleyvillechamber.org/events/details/pickle-ball-tournament-31024
END:VEVENT

END:VCALENDAR
