BEGIN:VCALENDAR
VERSION:2.0
PRODID:-//ChamberMaster//Event Calendar 2.0//EN
METHOD:PUBLISH
X-PUBLISHED-TTL:P3D
REFRESH-INTERVAL:P3D
CALSCALE:GREGORIAN
BEGIN:VEVENT
DTSTART:20141112T173000Z
DTEND:20141112T183000Z
X-MICROSOFT-CDO-ALLDAYEVENT:FALSE
SUMMARY:Planning for Long-Term Care
DESCRIPTION:Please join us for a "Lunch and Learn" seminar to learn more about "Advantages of Long-Term Care Insurance."\n\n\n\nNew York Life will be on hand for pre-screening.\n\n\n\nRSVP by November 11th to 817-503-0702.
X-ALT-DESC;FMTTYPE=text/html:Please join us for a &quot\;Lunch and Learn&quot\; seminar to learn more about &quot\;Advantages of Long-Term Care Insurance.&quot\;<br />\n<br />\nNew York Life will be on hand for pre-screening.<br />\n<br />\nRSVP by November 11th to 817-503-0702.
LOCATION:Atria at Hometown
UID:e.642.7245
SEQUENCE:3
DTSTAMP:20260421T171821Z
URL:https://business.colleyvillechamber.org/events/details/planning-for-long-term-care-11-12-2014-7245
END:VEVENT

END:VCALENDAR
