BEGIN:VCALENDAR
VERSION:2.0
PRODID:-//ChamberMaster//Event Calendar 2.0//EN
METHOD:PUBLISH
X-PUBLISHED-TTL:P3D
REFRESH-INTERVAL:P3D
CALSCALE:GREGORIAN
BEGIN:VEVENT
DTSTART:20130618T163000Z
DTEND:20130618T180000Z
X-MICROSOFT-CDO-ALLDAYEVENT:FALSE
SUMMARY:POSTPONED- Monthly Luncheon
DESCRIPTION:POSTPONED:  Multi-Chamber June Membership Luncheon\n\n	Colleyville\, HEB\, Northeast Tarrant\, Southlake and Keller \n\n	Chambers of Commerce\n\n	 \n\n	"Legislative Session Report Card"\n\n	 \n\n	POSTPONED DUE TO SPECIAL SESSION CALENDAR.  A NEW DATE WILL BE DETERMINED AT THE END OF THE SESSION.\n\n	\n\n	Featuring Elected Officials Panel\n\n	David Parker\, AT&T (moderator)\, State Senators Kelly Hancock & Wendy Davis\, State Representatives Stephanie Klick & Giovanni Capriglione\n\n	 \n\n	Tickets $25\n\n	 \n\n	Sponsored by\n\n	Texas Health Harris Methodist Southlake and Spine Team Texas
X-ALT-DESC;FMTTYPE=text/html:<p>\n	<strong><span style="font-size: 10pt\;"><span style="font-family: verdana\,sans-serif\;"><span style="color: rgb(255\, 0\, 0)\;">POSTPONED:</span>&nbsp\; </span></span></strong><strong><span style="font-size: 10pt\;"><span style="font-family: verdana\,sans-serif\;">Multi-Chamber </span></span></strong><strong><span style="font-size: 10pt\;"><span style="font-family: verdana\,sans-serif\;">June Membership Luncheon</span></span></strong><br />\n	<span style="font-size: 9pt\;"><span style="font-family: verdana\,sans-serif\;">Colleyville\, HEB\, Northeast Tarrant\, Southlake&nbsp\;and Keller </span></span><br />\n	<span style="font-size: 9pt\;"><span style="font-family: verdana\,sans-serif\;">Chambers of Commerce</span></span><br />\n	&nbsp\;<br />\n	<strong><em><span style="font-size: 9pt\;"><span style="font-family: verdana\,sans-serif\;">&ldquo\;Legislative Session Report Card&rdquo\;</span></span></em></strong><br />\n	&nbsp\;<br />\n	<span style="color: rgb(178\, 34\, 34)\;"><em>POSTPONED DUE TO SPECIAL SESSION CALENDAR.&nbsp\; A NEW DATE WILL BE DETERMINED AT THE END OF THE SESSION.</em></span><br />\n	<br />\n	<span style="font-size: 9pt\;"><span style="font-family: verdana\,sans-serif\;">Featuring Elected Officials Panel<br />\n	David Parker\, AT&amp\;T (moderator)\, State Senators Kelly Hancock &amp\; Wendy Davis\, State Representatives Stephanie Klick &amp\; Giovanni Capriglione</span></span><br />\n	&nbsp\;<br />\n	<span style="font-size: 9pt\;"><span style="font-family: verdana\,sans-serif\;">Tickets $25</span></span><br />\n	&nbsp\;<br />\n	<strong><span style="font-size: 9pt\;"><span style="font-family: verdana\,sans-serif\;">Sponsored by</span></span></strong><br />\n	<span style="font-size: 9pt\;"><span style="font-family: verdana\,sans-serif\;">Texas Health Harris Methodist Southlake and Spine Team Texas</span></span><br />\n	&nbsp\;</p>\n
LOCATION:North Richland Hills Center 6000 Hawk Ave. North Richland Hills\, TX 76180 POSTPONED DUE TO SPECIAL SESSION CALENDAR. A NEW DATE WILL BE DETERMINED AT THE END OF THE SESSION. PLEASE CONTACT THE CHAMBER AT 817.488.7148 FOR MORE INFORAMTION.
UID:e.642.5147
SEQUENCE:3
DTSTAMP:20260422T222946Z
URL:https://business.colleyvillechamber.org/events/details/postponed-monthly-luncheon-06-18-2013-5147
END:VEVENT

END:VCALENDAR
