BEGIN:VCALENDAR
VERSION:2.0
PRODID:-//ChamberMaster//Event Calendar 2.0//EN
METHOD:PUBLISH
X-PUBLISHED-TTL:P3D
REFRESH-INTERVAL:P3D
CALSCALE:GREGORIAN
BEGIN:VEVENT
DTSTART:20131102T190000Z
DTEND:20131102T220000Z
X-MICROSOFT-CDO-ALLDAYEVENT:FALSE
SUMMARY:POSTPONED - Open House: Rodan + Fields now at Concepts in Wellness!
DESCRIPTION:You're invited to attend an Open House\, celebrating the grand opening of Concepts in Wellness and introducing Rodan + Fields Dermatologists as their recommended product line for skin treatment. \n\n\n\nKen Wightman\, ND provides naturopathic alternatives for healing.  He works with clients to first identify the cause or the deficiency and then focuses on bringing the body back to a state in which it heals itself.  In his desire to offer high quality products to clients\, Dr. Wightman has chosen Rodan + Fields Dermatologists to address the skincare problems that often accompany other health challenges.\n\n\n\nJoin us to learn more about the benefits of naturopathic medicine\, and sample some healthy foods and beverages.  You can also personally experience Rodan + Fields products and tools\, including the patent-pending Macro Exfoliator and Amp MD System before it is available to the public!\n\n\n\nWe look forward to seeing you on November 2!!
X-ALT-DESC;FMTTYPE=text/html:<span style="font-size: 14px\;">You&#39\;re invited to attend an Open House\, celebrating the grand opening of <span style="color: rgb(0\, 128\, 0)\;"><strong>Concepts in Wellness </strong></span>and introducing <span style="color: rgb(51\, 102\, 255)\;"><strong>Rodan + Fields Dermatologists </strong></span>as their recommended product line for skin treatment.&nbsp\;<br />\n<br />\n<span style="color: rgb(0\, 128\, 0)\;"><strong>Ken Wightman\, ND </strong></span>provides naturopathic alternatives for healing.&nbsp\; He works with clients to first identify the cause or the deficiency and then focuses on bringing&nbsp\;the body back to a state in which it heals itself.&nbsp\; In his desire to offer high quality products to clients\, <span style="color: rgb(0\, 128\, 0)\;"><strong>Dr. Wightman </strong></span>has chosen <span style="color: rgb(51\, 102\, 255)\;"><strong>Rodan + Fields Dermatologists </strong></span>to address the skincare problems that often accompany other health challenges.<br />\n<br />\nJoin us to learn more about the benefits of naturopathic medicine\, and sample some healthy foods and beverages.&nbsp\; You can also&nbsp\;personally experience <span style="color: rgb(51\, 102\, 255)\;"><strong>Rodan + Fields </strong></span>products and tools\, including the patent-pending <u><span style="color: rgb(51\, 102\, 255)\;"><strong>Macro Exfoliator</strong></span></u><span style="color: rgb(51\, 102\, 255)\;"> </span>and <u><span style="color: rgb(51\, 102\, 255)\;"><strong>Amp MD System</strong></span></u><span style="color: rgb(51\, 102\, 255)\;"><strong> </strong></span>before it is available to the public!<br />\n<br />\n<strong><span style="color: rgb(51\, 102\, 255)\;">We look forward to seeing you on November 2!!</span></strong></span>
LOCATION:Concepts in Wellness\, Dr. Ken Wightman 1023 South Main Street\, Suite 204 Grapevine\, TX 76051
UID:e.642.5987
SEQUENCE:3
DTSTAMP:20260422T130729Z
URL:https://business.colleyvillechamber.org/events/details/postponed-open-house-rodan-fields-now-at-concepts-in-wellness-11-02-2013-5987
END:VEVENT

END:VCALENDAR
