BEGIN:VCALENDAR
VERSION:2.0
PRODID:-//ChamberMaster//Event Calendar 2.0//EN
METHOD:PUBLISH
X-PUBLISHED-TTL:P3D
REFRESH-INTERVAL:P3D
CALSCALE:GREGORIAN
BEGIN:VEVENT
DTSTART:20150108T230000Z
DTEND:20150109T010000Z
X-MICROSOFT-CDO-ALLDAYEVENT:FALSE
SUMMARY:POSTPONED - Ribbon Cutting - Bahama Bucks
DESCRIPTION:Ribbon Cutting\n\nBahama Bucks\n\n4605 Colleyville Blvd.\n\nColleyville\, TX\n\nOwner:  Michael Parr
X-ALT-DESC;FMTTYPE=text/html:Ribbon Cutting<br />\nBahama Bucks<br />\n4605 Colleyville Blvd.<br />\nColleyville\, TX<br />\nOwner:&nbsp\; Michael Parr
LOCATION:
UID:e.642.7255
SEQUENCE:3
DTSTAMP:20260421T152736Z
URL:https://business.colleyvillechamber.org/events/details/postponed-ribbon-cutting-bahama-bucks-01-08-2015-7255
END:VEVENT

END:VCALENDAR
