BEGIN:VCALENDAR
VERSION:2.0
PRODID:-//ChamberMaster//Event Calendar 2.0//EN
METHOD:PUBLISH
X-PUBLISHED-TTL:P3D
REFRESH-INTERVAL:P3D
CALSCALE:GREGORIAN
BEGIN:VEVENT
DTSTART:20230420T180000Z
DTEND:20230420T210000Z
X-MICROSOFT-CDO-ALLDAYEVENT:FALSE
SUMMARY:Protect Your Privacy with Document Shredding at Frost
DESCRIPTION:Frost invites the Dallas/Fort Worth community to come to a Frost financial center to have sensitive documents shredded\, with service provided by Shred-It. Frost will also make treats available to participants. Guests are welcome to bring up to 10 containers with any paper products to be shredded\, and there is no need to remove paper clips or staples. Paper documents can remain in envelopes. However\, the shred event is not able to accommodate things like cardboard boxes\, X-rays\, CDs or DVDs\, hard drives or pill bottles. The events are a tradition at Frost\, which shares its customers' concern for privacy and secure information.
X-ALT-DESC;FMTTYPE=text/html:Frost invites the Dallas/Fort Worth community to come to a Frost financial center to have sensitive documents shredded\, with service provided by Shred-It. Frost will also make treats available to participants. Guests are welcome to bring up to 10 containers with any paper products to be shredded\, and there is no need to remove paper clips or staples. Paper documents can remain in envelopes. However\, the shred event is not able to accommodate things like cardboard boxes\, X-rays\, CDs or DVDs\, hard drives or pill bottles. The events are a tradition at Frost\, which shares its customers&rsquo\; concern for privacy and secure information.
LOCATION:Colleyville Financial Center 4718 Colleyville Blvd. Colleyville\, Texas 76034
UID:e.642.28966
SEQUENCE:3
DTSTAMP:20260424T053350Z
URL:https://business.colleyvillechamber.org/events/details/protect-your-privacy-with-document-shredding-at-frost-28966
END:VEVENT

END:VCALENDAR
