BEGIN:VCALENDAR
VERSION:2.0
PRODID:-//ChamberMaster//Event Calendar 2.0//EN
METHOD:PUBLISH
X-PUBLISHED-TTL:P3D
REFRESH-INTERVAL:P3D
CALSCALE:GREGORIAN
BEGIN:VEVENT
DTSTART:20140814T190000Z
DTEND:20140814T200000Z
X-MICROSOFT-CDO-ALLDAYEVENT:FALSE
SUMMARY:Quarterly Market Update - Fidelity Investments
DESCRIPTION:In this seminar\, you will learn: The driving forces behind recent developments influencing the financial markets and the US economy\; the factors affecting the performance of domestic and international equity markets\; and what drives changes in bond-market interest rates and valuations.
X-ALT-DESC;FMTTYPE=text/html:In this seminar\,&nbsp\;you will learn: The driving forces behind recent developments influencing the financial markets and the US economy\; the factors affecting the performance of domestic and international equity markets\; and what drives changes in bond-market interest rates and valuations.
LOCATION:Fidelity Southlake Investor Center 1576 E. Southlake Blvd Southlake\, TX 76092
UID:e.642.6923
SEQUENCE:3
DTSTAMP:20260421T221857Z
URL:https://business.colleyvillechamber.org/events/details/quarterly-market-update-fidelity-investments-08-14-2014-6923
END:VEVENT

END:VCALENDAR
