BEGIN:VCALENDAR
VERSION:2.0
PRODID:-//ChamberMaster//Event Calendar 2.0//EN
METHOD:PUBLISH
X-PUBLISHED-TTL:P3D
REFRESH-INTERVAL:P3D
CALSCALE:GREGORIAN
BEGIN:VEVENT
DTSTART:20150404T170000Z
DTEND:20150404T210000Z
X-MICROSOFT-CDO-ALLDAYEVENT:FALSE
SUMMARY:Rabbit Hunt
DESCRIPTION:The Colleyville Heritage Lions Club presents its  Fifth Annual "Rabbit Hunt\," Saturday\, April 4th\, 12   4 PM\, at the beautiful Delaney Vineyards\, Grapevine. The event has been named as one of the top three Easter Egg Hunt Events in the DFW area.  Mr. & Mrs Bunny arrive by limo and met by Delmo\, Peeps\, MadHatter\, and Ringmaster!  There will be face painting\, great food\, pictures\, music & dancing along with a petting zoo and bounce houses.  The event is FREE with minimal charges for concessions.  Check our website for more details.\n\nwww.colleyvilleheritagelionsclub.org
X-ALT-DESC;FMTTYPE=text/html:<span style="font-size: 10pt\;"><span style="font-family: comic sans ms\;">The Colleyville Heritage Lions Club presents its&nbsp\; <strong>Fifth Annual &ldquo\;Rabbit Hunt\,&rdquo\;</strong> Saturday\, April 4<sup>th</sup>\, 12 &ndash\; 4 PM\, at the beautiful Delaney Vineyards\,&nbsp\;Grapevine. The event has been named as one of the top three Easter Egg Hunt Events in the DFW area.&nbsp\; Mr. &amp\; Mrs Bunny arrive by limo and met by Delmo\, Peeps\, MadHatter\, and Ringmaster!&nbsp\; There will be face painting\, great food\, pictures\, music &amp\; dancing along with a petting zoo and bounce houses.&nbsp\; The event is FREE with minimal charges for concessions.&nbsp\; Check our website for more details.</span></span><br />\n<span style="font-size: 10pt\;"><span style="font-family: comic sans ms\;">www.colleyvilleheritagelionsclub.org</span></span><br />\n&nbsp\;
LOCATION:
UID:e.642.7552
SEQUENCE:3
DTSTAMP:20260421T082226Z
URL:https://business.colleyvillechamber.org/events/details/rabbit-hunt-04-04-2015-7552
END:VEVENT

END:VCALENDAR
