BEGIN:VCALENDAR
VERSION:2.0
PRODID:-//ChamberMaster//Event Calendar 2.0//EN
METHOD:PUBLISH
X-PUBLISHED-TTL:P3D
REFRESH-INTERVAL:P3D
CALSCALE:GREGORIAN
BEGIN:VEVENT
DTSTART;VALUE=DATE:20140814
DTEND;VALUE=DATE:20140823
TRANSP:TRANSPARENT
X-MICROSOFT-CDO-ALLDAYEVENT:TRUE
SUMMARY:Raising Cain's Backpack Program
DESCRIPTION:Raising Canes in Hurst and Euless will be collecting backpacks through August 22nd for 6 Stones Mission Operation Back 2 School benefiting HEB area schools.\n\nEvery backpack donated will receive a free kids meal.
X-ALT-DESC;FMTTYPE=text/html:<span style="font-size: medium\;"><span style="font-family: calibri\;">Raising Canes in Hurst and Euless will be collecting backpacks through August 22nd for 6 Stones Mission Operation Back 2 School benefiting HEB area schools.</span></span><br />\n<span style="font-size: medium\;"><span style="font-family: calibri\;">Every backpack donated will receive a free kids meal.</span></span><br />\n&nbsp\;
LOCATION:
UID:e.642.6925
SEQUENCE:3
DTSTAMP:20260421T220257Z
URL:https://business.colleyvillechamber.org/events/details/raising-cain-s-backpack-program-08-14-2014-6925
END:VEVENT

END:VCALENDAR
