BEGIN:VCALENDAR
VERSION:2.0
PRODID:-//ChamberMaster//Event Calendar 2.0//EN
METHOD:PUBLISH
X-PUBLISHED-TTL:P3D
REFRESH-INTERVAL:P3D
CALSCALE:GREGORIAN
BEGIN:VEVENT
DTSTART:20140726T183000Z
DTEND:20140726T213000Z
X-MICROSOFT-CDO-ALLDAYEVENT:FALSE
SUMMARY:Raising Canes Carter Blood Drive
DESCRIPTION:Raising Canes is teaming up with Carter Blood Care.  All those who participate and give blood will receive a FREE Box Combo with the purchase of a second Box Combo.  Come out and help support our local Blood Bank!
X-ALT-DESC;FMTTYPE=text/html:Raising Canes is teaming up with Carter Blood Care.&nbsp\; All those who participate and give blood will receive a FREE Box Combo with the purchase of a second Box Combo.&nbsp\; Come out and help support our local Blood Bank!
LOCATION:Raising Canes 776 Grapevine Hwy Hurst\, TX 76054
UID:e.642.6915
SEQUENCE:3
DTSTAMP:20260422T013955Z
URL:https://business.colleyvillechamber.org/events/details/raising-canes-carter-blood-drive-07-26-2014-6915
END:VEVENT

END:VCALENDAR
