BEGIN:VCALENDAR
VERSION:2.0
PRODID:-//ChamberMaster//Event Calendar 2.0//EN
METHOD:PUBLISH
X-PUBLISHED-TTL:P3D
REFRESH-INTERVAL:P3D
CALSCALE:GREGORIAN
BEGIN:VEVENT
DTSTART:20150110T163000Z
DTEND:20150111T220000Z
X-MICROSOFT-CDO-ALLDAYEVENT:FALSE
SUMMARY:Raw Food\, Radiant Life! Weekend Intensive
DESCRIPTION:Day 1: Learn the amazing benefits of a raw\, vegan\, low-glycemic diet in healing the body on all levels. Enjoy a healthy\, delicious raw vegan lunch. Practice gentle qi gong exercise. Plan a weekly menu and go on a group grocery-shopping trip. Day 2: Prepare nutritious\, delicious\, simple\, budget-conscious\, raw\, vegan\, low-glycemic recipes\, including breakfast\, lunch\, and dinner fare ? sampling the tasty food as we go! Participate in simple\, effective relaxation methods. 3-week challenge: Follow the program at home for 3 weeks\, with twice weekly telephone support and a positive behavior modification program to keep you motivated. Online 3 week challenge: Days 1 and 2 plus the 3-week challenge all entirely online.
X-ALT-DESC;FMTTYPE=text/html:Day 1: Learn the amazing benefits of a raw\, vegan\, low-glycemic diet in healing the body on all levels. Enjoy a healthy\, delicious raw vegan lunch. Practice gentle qi gong exercise. Plan a weekly menu and go on a group grocery-shopping trip. Day 2: Prepare nutritious\, delicious\, simple\, budget-conscious\, raw\, vegan\, low-glycemic recipes\, including breakfast\, lunch\, and dinner fare ? sampling the tasty food as we go! Participate in simple\, effective relaxation methods. 3-week challenge: Follow the program at home for 3 weeks\, with twice weekly telephone support and a positive behavior modification program to keep you motivated. Online 3 week challenge: Days 1 and 2 plus the 3-week challenge all entirely online.
LOCATION:Kotsanis Institute 2260 Pool Rd. Grapevine\, TX 76051
UID:e.642.7468
SEQUENCE:3
DTSTAMP:20260421T142502Z
URL:https://business.colleyvillechamber.org/events/details/raw-food-radiant-life-weekend-intensive-01-10-2015-7468
END:VEVENT

END:VCALENDAR
