BEGIN:VCALENDAR
VERSION:2.0
PRODID:-//ChamberMaster//Event Calendar 2.0//EN
METHOD:PUBLISH
X-PUBLISHED-TTL:P3D
REFRESH-INTERVAL:P3D
CALSCALE:GREGORIAN
BEGIN:VEVENT
DTSTART:20240604T140000Z
DTEND:20240604T150000Z
X-MICROSOFT-CDO-ALLDAYEVENT:FALSE
SUMMARY:POWER HOUR
DESCRIPTION:Join us every Tuesday from 9:00 AM - 10:00 AM at Colleyville Business Center for POWER HOUR!!
X-ALT-DESC;FMTTYPE=text/html:Join us every Tuesday from 9:00 AM - 10:00 AM at <span style="font-size:14px\;"><span style="color: rgb(0\, 29\, 53)\; font-family: &quot\;Google Sans&quot\;\, Roboto-Medium\, Arial\, sans-serif-medium\, sans-serif\;">Colleyville Business Center</span> </span>for POWER HOUR!!&nbsp\;<br />\n&nbsp\;
LOCATION:5601 Colleyville Blvd Ste. 7\, Colleyville\, TX 76034
UID:e.642.26690
SEQUENCE:3
DTSTAMP:20260423T054757Z
URL:https://business.colleyvillechamber.org/events/details/real-estate-power-hour-06-04-2024-26690
END:VEVENT

END:VCALENDAR
