BEGIN:VCALENDAR
VERSION:2.0
PRODID:-//ChamberMaster//Event Calendar 2.0//EN
METHOD:PUBLISH
X-PUBLISHED-TTL:P3D
REFRESH-INTERVAL:P3D
CALSCALE:GREGORIAN
BEGIN:VEVENT
DTSTART:20130501T223000Z
DTEND:20130502T003000Z
X-MICROSOFT-CDO-ALLDAYEVENT:FALSE
SUMMARY:Reception for Victor Foia\, Entrepreneur Author
DESCRIPTION:Join us for a reception where you will be able to meet author Victor Foia.  Mr. Foia returns to Colleyville to be our guest speaker at the monthly membership luncheon on May 2nd. \n\n\n\nThe reception will be an opportunity to meet Mr. Foia and learn more about his historic journey as he embarked on his quest to write the Dracula Chronicles.  Mr. Foia will have copies of the Dracula Chronicles available for signing at the reception as well as the luncheon the following day.\n\n\n\nVictor T. Foia was born in Transylvania where he studied theoretical physics at Babes-Bolyai University in Cluj. At the age of 22 Victor escaped from behind the Iron Curtain and defected to Italy. After a waiting period of months spent in UN refugee camps\, he emigrated to the United States. There Victor graduated from the University of Illinois and University of Dallas. He then embarked upon a career as an international corporate executive. Presently he is engaged full time in writing historical fiction.\n\n\n\nVictor's interest in Dracula dates from the age of six\, when he first visited his compatriot's birthplace only a hundred miles from his own. Soon this interest became a lasting passion for research into Dracula's life. Exploring castles\, fortresses\, and monasteries throughout Eastern Europe and the Middle East\, Victor went beyond the iconic Dracula literature to ferret out the essence of the man behind the Legend. The four decade long quest has taken Victor to virtually all the places where Dracula lived\, loved\, fought\, and was imprisoned. In the end\, by the empty tomb from where the prince disappeared without a trace 535 years ago\, Victor felt his journey of discovery was complete and now the story of the real Dracula could be told.\n\n\n\nLearn about the Dracula Chronicles at http://www.prlog.org/12053408-transylvanian-author-turns-four-decades-of-research-into-dracula-chronicles.html
X-ALT-DESC;FMTTYPE=text/html:Join us for a reception where you will be able to meet author Victor Foia.&nbsp\; Mr. Foia returns to Colleyville to be our guest speaker at the monthly membership luncheon on May 2nd.&nbsp\;<br />\n<br />\nThe reception will be an opportunity to meet Mr. Foia and learn more about his historic journey as he embarked on his quest to write the<em> Dracula Chronicles</em>.&nbsp\; Mr. Foia will have copies of the <em>Dracula Chronicles </em>available for signing at the reception as well as the luncheon the following day.<br />\n<br />\n<span style="font-size: 11px\;"><span style="font-family: arial\;"><strong><span style="color: rgb(51\, 51\, 51)\;">Victor T. Foia</span></strong><span style="color: rgb(51\, 51\, 51)\;">&nbsp\;was born in Transylvania where he studied theoretical physics at Babes-Bolyai University in Cluj. At the age of 22 Victor escaped from behind the Iron Curtain and defected to Italy. After a waiting period of months spent in UN refugee camps\, he emigrated to the United States. There Victor graduated from the University of Illinois and University of Dallas. He then embarked upon a career as an international corporate executive. Presently he is engaged full time in writing historical fiction.</span><br />\n<br />\n<span style="color: rgb(51\, 51\, 51)\;">Victor&rsquo\;s interest in Dracula dates from the age of six\, when he first visited his compatriot&rsquo\;s birthplace only a hundred miles from his own. Soon this interest became a lasting passion for research into Dracula&rsquo\;s life. Exploring castles\, fortresses\, and monasteries throughout Eastern Europe and the Middle East\, Victor went beyond the iconic Dracula literature to ferret out the essence of the man behind the Legend. The four&#8209\;decade long quest has taken Victor to virtually all the places where Dracula lived\, loved\, fought\, and was imprisoned. In the end\, by the empty tomb from where the prince disappeared without a trace 535 years ago\, Victor felt his journey of discovery was complete and now the story of the&nbsp\;<strong><em>real</em></strong>&nbsp\;Dracula could be told.</span><br />\n<br />\nLearn about the Dracula Chronicles at <span style="mso-fareast-font-family: Calibri\; mso-ansi-language: EN-US\; mso-fareast-language: EN-US\; mso-bidi-language: AR-SA\; mso-fareast-theme-font: minor-latin\;"><a href="http://www.prlog.org/12053408-transylvanian-author-turns-four-decades-of-research-into-dracula-chronicles.html"><span style="mso-fareast-font-family: &quot\;Times New Roman&quot\;\;"><font color="#0000ff">http://www.prlog.org/12053408-transylvanian-author-turns-four-decades-of-research-into-dracula-chronicles.html</font></span></a></span></span></span>
LOCATION:Colleyville Public Library 2nd Floor 110 Main Street Colleyville Texas 76034
UID:e.642.5609
SEQUENCE:3
DTSTAMP:20260422T222655Z
URL:https://business.colleyvillechamber.org/events/details/reception-for-victor-foia-entrepreneur-author-05-01-2013-5609
END:VEVENT

END:VCALENDAR
