BEGIN:VCALENDAR
VERSION:2.0
PRODID:-//ChamberMaster//Event Calendar 2.0//EN
METHOD:PUBLISH
X-PUBLISHED-TTL:P3D
REFRESH-INTERVAL:P3D
CALSCALE:GREGORIAN
BEGIN:VEVENT
DTSTART:20140627T230000Z
DTEND:20140628T030000Z
X-MICROSOFT-CDO-ALLDAYEVENT:FALSE
SUMMARY:Red\, White & Sousa
DESCRIPTION:Red\, White & Sousa\, Colleyville's musical celebration of America's Independence Day\, will be held on Friday\, June 27\, at Colleyville Center\, 5301 Riverwalk Drive.  Renowned choral group\, The Vocal Majority\, returns to Colleyville for the event.  Gourmet food trucks begin serving at 6:00 p.m.\; the patriotic concert begins at 8:00 p.m.  Lawn chairs\, blankets\, and coolers are welcome at the family-friendly event.  General seating is free and open to all.
X-ALT-DESC;FMTTYPE=text/html:Red\, White &amp\; Sousa\, Colleyville&#39\;s musical celebration of America&#39\;s Independence Day\, will be held on Friday\, June 27\, at Colleyville Center\, 5301 Riverwalk Drive.&nbsp\; Renowned choral group\, The Vocal Majority\, returns to Colleyville for the event.&nbsp\; Gourmet food trucks begin serving at 6:00 p.m.\; the patriotic concert begins at 8:00 p.m.&nbsp\; Lawn chairs\, blankets\, and coolers are welcome at the family-friendly event.&nbsp\; General seating is free and open to all.
LOCATION:
UID:e.642.6894
SEQUENCE:3
DTSTAMP:20260422T013611Z
URL:https://business.colleyvillechamber.org/events/details/red-white-sousa-06-27-2014-6894
END:VEVENT

END:VCALENDAR
