BEGIN:VCALENDAR
VERSION:2.0
PRODID:-//ChamberMaster//Event Calendar 2.0//EN
METHOD:PUBLISH
X-PUBLISHED-TTL:P3D
REFRESH-INTERVAL:P3D
CALSCALE:GREGORIAN
BEGIN:VEVENT
DTSTART:20130628T230000Z
DTEND:20130629T020000Z
X-MICROSOFT-CDO-ALLDAYEVENT:FALSE
SUMMARY:Red\, White & Sousa
DESCRIPTION:Colleyville's popular Red\, White & Sousa\, a musical celebration of America's Independence Day\, happens each year in the Village at Colleyville. The event opens at 6:00 p.m. and the concert\, featuring a different musical group or ensemble\, begins at 8:00 p.m. Lawn chairs\, blankets\, and coolers are welcome at the family-friendly event. The event is free and open to everyone. For more information\, call 817.503.1150.
X-ALT-DESC;FMTTYPE=text/html:<span style="font-size: 12px\;">Colleyville&rsquo\;s popular Red\, White &amp\; Sousa\, a musical celebration of America&rsquo\;s Independence Day\, happens each year in the Village at Colleyville. The event opens at 6:00 p.m. and the concert\, featuring a different musical group or ensemble\, begins at 8:00 p.m. Lawn chairs\, blankets\, and coolers are welcome at the family-friendly event. The event is free and open to everyone. For more information\, call 817.503.1150.</span>
LOCATION:Village at Colleyville
UID:e.642.5670
SEQUENCE:3
DTSTAMP:20260422T222440Z
URL:https://business.colleyvillechamber.org/events/details/red-white-sousa-06-28-2013-5670
END:VEVENT

END:VCALENDAR
