BEGIN:VCALENDAR
VERSION:2.0
PRODID:-//ChamberMaster//Event Calendar 2.0//EN
METHOD:PUBLISH
X-PUBLISHED-TTL:P3D
REFRESH-INTERVAL:P3D
CALSCALE:GREGORIAN
BEGIN:VEVENT
DTSTART:20120629T233000Z
DTEND:20120630T030000Z
X-MICROSOFT-CDO-ALLDAYEVENT:FALSE
SUMMARY:Red\, White & Sousa
DESCRIPTION:The City of Colleyville celebrates Independence Day with a musical event.  Choral group The Vocal Majority Chorus hosts the concert featuring a variety of music from classics\, jazz\, patriotric\, Broadway pop and more.  Gourmet food trucks begin serving at 6:30 p.m.  Free concert begins 8 p.m.  Reserve a table for up to 5 people for $25.  The Village of Colleyville\, 100 Main St.\, Colleyville.
X-ALT-DESC;FMTTYPE=text/html:The City of Colleyville celebrates Independence Day with a musical event.&nbsp\; Choral group The Vocal Majority Chorus hosts the concert featuring a variety of music from classics\, jazz\, patriotric\, Broadway pop and more.&nbsp\; Gourmet food trucks begin serving at 6:30 p.m.&nbsp\; Free concert begins 8 p.m.&nbsp\; Reserve a table for up to 5 people for $25.&nbsp\; The Village of Colleyville\, 100 Main St.\, Colleyville.<br />\n<br />\n
LOCATION:
UID:e.642.5057
SEQUENCE:3
DTSTAMP:20260423T164912Z
URL:https://business.colleyvillechamber.org/events/details/red-white-sousa-06-29-2012-5057
END:VEVENT

END:VCALENDAR
