BEGIN:VCALENDAR
VERSION:2.0
PRODID:-//ChamberMaster//Event Calendar 2.0//EN
METHOD:PUBLISH
X-PUBLISHED-TTL:P3D
REFRESH-INTERVAL:P3D
CALSCALE:GREGORIAN
BEGIN:VEVENT
DTSTART:20130319T164500Z
DTEND:20130319T180000Z
X-MICROSOFT-CDO-ALLDAYEVENT:FALSE
SUMMARY:Redefine Your Skin with Rodan + Fields Dermatologists
DESCRIPTION:Ready to learn about the newest innovation in dermatology?  Do you want real solutions to your skincare concerns? \n\n\n\nDrs. Katie Rodan & Kathy Fields are bringing dermatology directly to your home with their quality skincare regimens and now\, the MacroExfoliator system.  Join us to learn how to love your skin and how the MacroE can enhance any skincare regimen!
X-ALT-DESC;FMTTYPE=text/html:<span style="font-size: 14px\;"><span style="font-family: tahoma\;">Ready to learn about the newest innovation in dermatology?&nbsp\; Do you want <u>real</u> solutions to your skincare concerns?&nbsp\;<br />\n<br />\nDrs. Katie Rodan &amp\; Kathy Fields are bringing dermatology directly to your home with their quality skincare regimens and now\, the MacroExfoliator system.&nbsp\; Join us to learn how to love your skin and how the MacroE can enhance any skincare regimen!</span></span>
LOCATION:Next Wood Fired Bistro 5003 Colleyville Blvd. Colleyville\, TX 76034
UID:e.642.5606
SEQUENCE:3
DTSTAMP:20260423T020001Z
URL:https://business.colleyvillechamber.org/events/details/redefine-your-skin-with-rodan-fields-dermatologists-03-19-2013-5606
END:VEVENT

END:VCALENDAR
