BEGIN:VCALENDAR
VERSION:2.0
PRODID:-//ChamberMaster//Event Calendar 2.0//EN
METHOD:PUBLISH
X-PUBLISHED-TTL:P3D
REFRESH-INTERVAL:P3D
CALSCALE:GREGORIAN
BEGIN:VEVENT
DTSTART:20140306T130000Z
DTEND:20140307T040000Z
X-MICROSOFT-CDO-ALLDAYEVENT:FALSE
SUMMARY:Relay for Life Fundraiser
DESCRIPTION:Northstar Bank has partnered with Fuzzy's Taco Shop to benefit Relay!  10% of all proceeds at this location will go to the Northstar Bank of Texas Tarrant County Relay for Life team.  Please mention either Northstar Bank or Relay for Life when paying for this donation to apply.
X-ALT-DESC;FMTTYPE=text/html:<p><span style="color: rgb(0\, 0\, 128)\;">Northstar Bank has partnered with Fuzzy&#39\;s Taco Shop to benefit Relay!&nbsp\; 10% of all proceeds at this location will go to the Northstar Bank of Texas Tarrant County Relay for Life team.&nbsp\; Please mention either Northstar Bank or Relay for Life when paying for this donation to apply.&nbsp\; </span></p>\n
LOCATION:Fuzzy's Taco Shop 2030 Glade Road Ste 296 Grapevine\, TX 76051
UID:e.642.6840
SEQUENCE:3
DTSTAMP:20260422T065634Z
URL:https://business.colleyvillechamber.org/events/details/relay-for-life-fundraiser-03-06-2014-6840
END:VEVENT

END:VCALENDAR
