BEGIN:VCALENDAR
VERSION:2.0
PRODID:-//ChamberMaster//Event Calendar 2.0//EN
METHOD:PUBLISH
X-PUBLISHED-TTL:P3D
REFRESH-INTERVAL:P3D
CALSCALE:GREGORIAN
BEGIN:VEVENT
DTSTART:20120927T220000Z
DTEND:20120927T233000Z
X-MICROSOFT-CDO-ALLDAYEVENT:FALSE
SUMMARY:Ribbon Cutting
DESCRIPTION:Dancing River Assisted Living\n\n	3735 Ira E. Woods\n\n	Grapevine\, TX  76051\n\n	817-442-0505\n\n	Representative:  Renee Wheat
X-ALT-DESC;FMTTYPE=text/html:<p>\n	Dancing River Assisted Living<br />\n	3735 Ira E. Woods<br />\n	Grapevine\, TX&nbsp\; 76051<br />\n	817-442-0505<br />\n	Representative:&nbsp\; Renee Wheat</p>\n
LOCATION:
UID:e.642.5084
SEQUENCE:3
DTSTAMP:20260423T121821Z
URL:https://business.colleyvillechamber.org/events/details/ribbon-cutting-09-27-2012-5084
END:VEVENT

END:VCALENDAR
