BEGIN:VCALENDAR
VERSION:2.0
PRODID:-//ChamberMaster//Event Calendar 2.0//EN
METHOD:PUBLISH
X-PUBLISHED-TTL:P3D
REFRESH-INTERVAL:P3D
CALSCALE:GREGORIAN
BEGIN:VEVENT
DTSTART:20141007T220000Z
DTEND:20141007T230000Z
X-MICROSOFT-CDO-ALLDAYEVENT:FALSE
SUMMARY:Ribbon Cutting - A-1 Locksmith
DESCRIPTION:5600 Colleyville Blvd.\n\nColleyville\n\nRep:  Vadim Epelbaum
X-ALT-DESC;FMTTYPE=text/html:5600 Colleyville&nbsp\;Blvd.<br />\nColleyville<br />\nRep: &nbsp\;Vadim&nbsp\;Epelbaum
LOCATION:
UID:e.642.6940
SEQUENCE:3
DTSTAMP:20260421T185839Z
URL:https://business.colleyvillechamber.org/events/details/ribbon-cutting-a-1-locksmith-10-07-2014-6940
END:VEVENT

END:VCALENDAR
