BEGIN:VCALENDAR
VERSION:2.0
PRODID:-//ChamberMaster//Event Calendar 2.0//EN
METHOD:PUBLISH
X-PUBLISHED-TTL:P3D
REFRESH-INTERVAL:P3D
CALSCALE:GREGORIAN
BEGIN:VEVENT
DTSTART:20130928T150000Z
DTEND:20130928T153000Z
X-MICROSOFT-CDO-ALLDAYEVENT:FALSE
SUMMARY:Ribbon Cutting-Advanced Martial Arts Family Center
DESCRIPTION:
X-ALT-DESC;FMTTYPE=text/html:
LOCATION:6125 Colleyville Blvd\, Colleyville
UID:e.642.5756
SEQUENCE:3
DTSTAMP:20260422T175340Z
URL:https://business.colleyvillechamber.org/events/details/ribbon-cutting-advanced-martial-arts-family-center-09-28-2013-5756
END:VEVENT

END:VCALENDAR
