BEGIN:VCALENDAR
VERSION:2.0
PRODID:-//ChamberMaster//Event Calendar 2.0//EN
METHOD:PUBLISH
X-PUBLISHED-TTL:P3D
REFRESH-INTERVAL:P3D
CALSCALE:GREGORIAN
BEGIN:VEVENT
DTSTART:20120913T220000Z
DTEND:20120913T233000Z
X-MICROSOFT-CDO-ALLDAYEVENT:FALSE
SUMMARY:Ribbon Cutting - Affinity Smiles Dental
DESCRIPTION:Ribbon Cutting\n\nAffinity Smiles Dental\n\n6407 Colleyville Blvd.\, Suite A\n\nCollevyille\, TX\n\n817-421-1104\n\nDr. Chuong Do
X-ALT-DESC;FMTTYPE=text/html:Ribbon Cutting<br />\nAffinity Smiles Dental<br />\n6407 Colleyville Blvd.\, Suite A<br />\nCollevyille\, TX<br />\n817-421-1104<br />\nDr. Chuong Do
LOCATION:
UID:e.642.5090
SEQUENCE:3
DTSTAMP:20260423T140418Z
URL:https://business.colleyvillechamber.org/events/details/ribbon-cutting-affinity-smiles-dental-09-13-2012-5090
END:VEVENT

END:VCALENDAR
