BEGIN:VCALENDAR
VERSION:2.0
PRODID:-//ChamberMaster//Event Calendar 2.0//EN
METHOD:PUBLISH
X-PUBLISHED-TTL:P3D
REFRESH-INTERVAL:P3D
CALSCALE:GREGORIAN
BEGIN:VEVENT
DTSTART:20120614T220000Z
DTEND:20120614T233000Z
X-MICROSOFT-CDO-ALLDAYEVENT:FALSE
SUMMARY:Ribbon Cutting American Water Damage
DESCRIPTION:
X-ALT-DESC;FMTTYPE=text/html:
LOCATION:1900 Industrial Blvd.\, Suite 206 Colleyville\, TX 76034
UID:e.642.5053
SEQUENCE:3
DTSTAMP:20260423T165351Z
URL:https://business.colleyvillechamber.org/events/details/ribbon-cutting-american-water-damage-06-14-2012-5053
END:VEVENT

END:VCALENDAR
