BEGIN:VCALENDAR
VERSION:2.0
PRODID:-//ChamberMaster//Event Calendar 2.0//EN
METHOD:PUBLISH
X-PUBLISHED-TTL:P3D
REFRESH-INTERVAL:P3D
CALSCALE:GREGORIAN
BEGIN:VEVENT
DTSTART:20130504T140000Z
DTEND:20130504T150000Z
X-MICROSOFT-CDO-ALLDAYEVENT:FALSE
SUMMARY:Ribbon Cutting and Grand Opening JumpStreet\, Inc.
DESCRIPTION:JumpStreet and Which Way Pizza Grand Opening & Ribbon Cutting\n\n5615 Colleyville Blvd.\n\nColleyville\, TX  76034\n\n817-428-4383
X-ALT-DESC;FMTTYPE=text/html:JumpStreet and Which Way Pizza Grand Opening &amp\; Ribbon Cutting<br />\n5615 Colleyville Blvd.<br />\nColleyville\, TX&nbsp\; 76034<br />\n817-428-4383
LOCATION:
UID:e.642.5626
SEQUENCE:3
DTSTAMP:20260422T223117Z
URL:https://business.colleyvillechamber.org/events/details/ribbon-cutting-and-grand-opening-jumpstreet-inc-05-04-2013-5626
END:VEVENT

END:VCALENDAR
