BEGIN:VCALENDAR
VERSION:2.0
PRODID:-//ChamberMaster//Event Calendar 2.0//EN
METHOD:PUBLISH
X-PUBLISHED-TTL:P3D
REFRESH-INTERVAL:P3D
CALSCALE:GREGORIAN
BEGIN:VEVENT
DTSTART:20121026T150000Z
DTEND:20121026T200000Z
X-MICROSOFT-CDO-ALLDAYEVENT:FALSE
SUMMARY:Ribbon Cutting and Neighborhood Blood Drive - McIlvain & Associates
DESCRIPTION:Joint Chamber Ribbon Cutting - 11:30 a.m.\n\n(Colleyville\, Grapevine and HEB)\n\nNeighborhood Blood Drive and Ribbon Cutting to celebrate expansion and new location 10 a.m. - 3 p.m.\n\nCarter Blood Care On-Site - Community Blood Drive\n\n4004 Gateway Drive\n\nSuite 180\n\nColleyville\, TX\n\n817-545-1277\n\nContact:  Sandy McIlvain and Janine Castleberry
X-ALT-DESC;FMTTYPE=text/html:<strong>Joint Chamber Ribbon Cutting - 11:30 a.m</strong>.<br />\n(Colleyville\, Grapevine and HEB)<br />\nNeighborhood&nbsp\;Blood Drive and&nbsp\;Ribbon Cutting&nbsp\;to celebrate expansion and new location 10 a.m. - 3 p.m.<br />\nCarter Blood Care On-Site - Community Blood Drive<br />\n4004 Gateway Drive<br />\nSuite 180<br />\nColleyville\, TX<br />\n817-545-1277<br />\nContact:&nbsp\; Sandy McIlvain and Janine Castleberry
LOCATION:
UID:e.642.5096
SEQUENCE:3
DTSTAMP:20260423T110458Z
URL:https://business.colleyvillechamber.org/events/details/ribbon-cutting-and-neighborhood-blood-drive-mcilvain-associates-10-26-2012-5096
END:VEVENT

END:VCALENDAR
