BEGIN:VCALENDAR
VERSION:2.0
PRODID:-//ChamberMaster//Event Calendar 2.0//EN
METHOD:PUBLISH
X-PUBLISHED-TTL:P3D
REFRESH-INTERVAL:P3D
CALSCALE:GREGORIAN
BEGIN:VEVENT
DTSTART:20130124T230000Z
DTEND:20130125T000000Z
X-MICROSOFT-CDO-ALLDAYEVENT:FALSE
SUMMARY:Ribbon Cutting - ARCLand Title
DESCRIPTION:1300 Glade Rd.\n\nColleyville\, TX
X-ALT-DESC;FMTTYPE=text/html:1300 Glade Rd.<br />\nColleyville\, TX<br />\n
LOCATION:
UID:e.642.5156
SEQUENCE:3
DTSTAMP:20260423T053455Z
URL:https://business.colleyvillechamber.org/events/details/ribbon-cutting-arcland-title-01-24-2013-5156
END:VEVENT

END:VCALENDAR
