BEGIN:VCALENDAR
VERSION:2.0
PRODID:-//ChamberMaster//Event Calendar 2.0//EN
METHOD:PUBLISH
X-PUBLISHED-TTL:P3D
REFRESH-INTERVAL:P3D
CALSCALE:GREGORIAN
BEGIN:VEVENT
DTSTART:20150414T220000Z
DTEND:20150414T230000Z
X-MICROSOFT-CDO-ALLDAYEVENT:FALSE
SUMMARY:Ribbon Cutting - Bahama Bucks
DESCRIPTION:Ribbon Cutting Event\n\n4605 Colleyville Blvd.\n\nColleyville\, TX\n\n817-682-0538\n\nContacts:  Austin or Prachee
X-ALT-DESC;FMTTYPE=text/html:Ribbon Cutting Event<br />\n4605 Colleyville Blvd.<br />\nColleyville\, TX<br />\n817-682-0538<br />\nContacts:&nbsp\; Austin or Prachee
LOCATION:
UID:e.642.7556
SEQUENCE:3
DTSTAMP:20260421T110731Z
URL:https://business.colleyvillechamber.org/events/details/ribbon-cutting-bahama-bucks-04-14-2015-7556
END:VEVENT

END:VCALENDAR
