BEGIN:VCALENDAR
VERSION:2.0
PRODID:-//ChamberMaster//Event Calendar 2.0//EN
METHOD:PUBLISH
X-PUBLISHED-TTL:P3D
REFRESH-INTERVAL:P3D
CALSCALE:GREGORIAN
BEGIN:VEVENT
DTSTART:20140807T230000Z
DTEND:20140808T013000Z
X-MICROSOFT-CDO-ALLDAYEVENT:FALSE
SUMMARY:Ribbon Cutting - Baylor Emergency Medical Center at Colleyville
DESCRIPTION:5:00 - 8:30 p.m. - Ribbon Cutting at 6:00 p.m.\n\n5500 Colleyville Blvd.\n\nColleyville\, TX
X-ALT-DESC;FMTTYPE=text/html:5:00 - 8:30 p.m. - Ribbon Cutting at 6:00 p.m.<br />\n5500 Colleyville Blvd.<br />\nColleyville\, TX
LOCATION:
UID:e.642.6900
SEQUENCE:3
DTSTAMP:20260421T221842Z
URL:https://business.colleyvillechamber.org/events/details/ribbon-cutting-baylor-emergency-medical-center-at-colleyville-08-07-2014-6900
END:VEVENT

END:VCALENDAR
