BEGIN:VCALENDAR
VERSION:2.0
PRODID:-//ChamberMaster//Event Calendar 2.0//EN
METHOD:PUBLISH
X-PUBLISHED-TTL:P3D
REFRESH-INTERVAL:P3D
CALSCALE:GREGORIAN
BEGIN:VEVENT
DTSTART:20150317T220000Z
DTEND:20150317T230000Z
X-MICROSOFT-CDO-ALLDAYEVENT:FALSE
SUMMARY:Ribbon Cutting - Benchmark Mortgage
DESCRIPTION:6230 Colleyville Blvd.\, Colleyville\, TX 76034
X-ALT-DESC;FMTTYPE=text/html:<span style="font-size: medium\;"><span style="font-family: calibri\;">6230 Colleyville Blvd.\, Colleyville\, TX 76034</span></span><br />\n&nbsp\;
LOCATION:
UID:e.642.7501
SEQUENCE:3
DTSTAMP:20260421T123831Z
URL:https://business.colleyvillechamber.org/events/details/ribbon-cutting-benchmark-mortgage-03-17-2015-7501
END:VEVENT

END:VCALENDAR
