BEGIN:VCALENDAR
VERSION:2.0
PRODID:-//ChamberMaster//Event Calendar 2.0//EN
METHOD:PUBLISH
X-PUBLISHED-TTL:P3D
REFRESH-INTERVAL:P3D
CALSCALE:GREGORIAN
BEGIN:VEVENT
DTSTART:20150324T220000Z
DTEND:20150324T233000Z
X-MICROSOFT-CDO-ALLDAYEVENT:FALSE
SUMMARY:Ribbon Cutting - Bev Young & Associates\, Realtors
DESCRIPTION:Ribbon Cutting\n\nBev Young & Associates\, Realtors\n\n5004 Thompson Terrace\, Suite 108\n\nColleyville\, TX
X-ALT-DESC;FMTTYPE=text/html:Ribbon Cutting<br />\nBev Young &amp\; Associates\, Realtors<br />\n5004 Thompson Terrace\, Suite 108<br />\nColleyville\, TX
LOCATION:
UID:e.642.7518
SEQUENCE:3
DTSTAMP:20260421T112913Z
URL:https://business.colleyvillechamber.org/events/details/ribbon-cutting-bev-young-associates-realtors-03-24-2015-7518
END:VEVENT

END:VCALENDAR
