BEGIN:VCALENDAR
VERSION:2.0
PRODID:-//ChamberMaster//Event Calendar 2.0//EN
METHOD:PUBLISH
X-PUBLISHED-TTL:P3D
REFRESH-INTERVAL:P3D
CALSCALE:GREGORIAN
BEGIN:VEVENT
DTSTART:20130620T220000Z
DTEND:20130621T000000Z
X-MICROSOFT-CDO-ALLDAYEVENT:FALSE
SUMMARY:Ribbon Cutting/Block Party - Tribeca
DESCRIPTION:Join us in celebrating the opening of TriBeCa Americana Bistro & Lounge with a ribbon cutting and block party.  Additional details coming soon!
X-ALT-DESC;FMTTYPE=text/html:Join us in celebrating the opening of TriBeCa Americana Bistro &amp\; Lounge&nbsp\;with a ribbon cutting and block party.&nbsp\; Additional details coming soon!
LOCATION:62 Main Street\, Suite 200 Colleyville Texas 76034
UID:e.642.5650
SEQUENCE:3
DTSTAMP:20260422T223004Z
URL:https://business.colleyvillechamber.org/events/details/ribbon-cutting-block-party-tribeca-06-20-2013-5650
END:VEVENT

END:VCALENDAR
