BEGIN:VCALENDAR
VERSION:2.0
PRODID:-//ChamberMaster//Event Calendar 2.0//EN
METHOD:PUBLISH
X-PUBLISHED-TTL:P3D
REFRESH-INTERVAL:P3D
CALSCALE:GREGORIAN
BEGIN:VEVENT
DTSTART:20130221T230000Z
DTEND:20130222T000000Z
X-MICROSOFT-CDO-ALLDAYEVENT:FALSE
SUMMARY:Ribbon Cutting - Briggs Freeman Sotheby's International Realty
DESCRIPTION:
X-ALT-DESC;FMTTYPE=text/html:
LOCATION:112 State Street Suite 200 Southlake\, TX 76092
UID:e.642.5165
SEQUENCE:3
DTSTAMP:20260423T034815Z
URL:https://business.colleyvillechamber.org/events/details/ribbon-cutting-briggs-freeman-sotheby-s-international-realty-02-21-2013-5165
END:VEVENT

END:VCALENDAR
