BEGIN:VCALENDAR
VERSION:2.0
PRODID:-//ChamberMaster//Event Calendar 2.0//EN
METHOD:PUBLISH
X-PUBLISHED-TTL:P3D
REFRESH-INTERVAL:P3D
CALSCALE:GREGORIAN
BEGIN:VEVENT
DTSTART:20140708T220000Z
DTEND:20140708T230000Z
X-MICROSOFT-CDO-ALLDAYEVENT:FALSE
SUMMARY:Ribbon Cutting - Cases Galore
DESCRIPTION:Cases Galore\n\n4620 Colleyville Blvd.\, Suite 103\n\nColleyville
X-ALT-DESC;FMTTYPE=text/html:Cases Galore<br />\n4620 Colleyville Blvd.\, Suite 103<br />\nColleyville
LOCATION:
UID:e.642.6897
SEQUENCE:3
DTSTAMP:20260422T013712Z
URL:https://business.colleyvillechamber.org/events/details/ribbon-cutting-cases-galore-07-08-2014-6897
END:VEVENT

END:VCALENDAR
