BEGIN:VCALENDAR
VERSION:2.0
PRODID:-//ChamberMaster//Event Calendar 2.0//EN
METHOD:PUBLISH
X-PUBLISHED-TTL:P3D
REFRESH-INTERVAL:P3D
CALSCALE:GREGORIAN
BEGIN:VEVENT
DTSTART:20140520T170000Z
DTEND:20140520T180000Z
X-MICROSOFT-CDO-ALLDAYEVENT:FALSE
SUMMARY:Ribbon Cutting-Changing Spaces Consignment
DESCRIPTION:
X-ALT-DESC;FMTTYPE=text/html:
LOCATION:4209 A Colleyville Blvd. Colleyville\, Tx 76034
UID:e.642.6876
SEQUENCE:3
DTSTAMP:20260422T032132Z
URL:https://business.colleyvillechamber.org/events/details/ribbon-cutting-changing-spaces-consignment-05-20-2014-6876
END:VEVENT

END:VCALENDAR
